BEGIN:VCALENDAR
VERSION:2.0
PRODID:-//Peetri Põhikool - ECPv6.15.20//NONSGML v1.0//EN
CALSCALE:GREGORIAN
METHOD:PUBLISH
X-ORIGINAL-URL:https://www.peetri.edu.ee/pohikool
X-WR-CALDESC:Events for Peetri Põhikool
REFRESH-INTERVAL;VALUE=DURATION:PT1H
X-Robots-Tag:noindex
X-PUBLISHED-TTL:PT1H
BEGIN:VTIMEZONE
TZID:Europe/Tallinn
BEGIN:DAYLIGHT
TZOFFSETFROM:+0200
TZOFFSETTO:+0300
TZNAME:EEST
DTSTART:20210328T010000
END:DAYLIGHT
BEGIN:STANDARD
TZOFFSETFROM:+0300
TZOFFSETTO:+0200
TZNAME:EET
DTSTART:20211031T010000
END:STANDARD
BEGIN:DAYLIGHT
TZOFFSETFROM:+0200
TZOFFSETTO:+0300
TZNAME:EEST
DTSTART:20220327T010000
END:DAYLIGHT
BEGIN:STANDARD
TZOFFSETFROM:+0300
TZOFFSETTO:+0200
TZNAME:EET
DTSTART:20221030T010000
END:STANDARD
BEGIN:DAYLIGHT
TZOFFSETFROM:+0200
TZOFFSETTO:+0300
TZNAME:EEST
DTSTART:20230326T010000
END:DAYLIGHT
BEGIN:STANDARD
TZOFFSETFROM:+0300
TZOFFSETTO:+0200
TZNAME:EET
DTSTART:20231029T010000
END:STANDARD
END:VTIMEZONE
BEGIN:VEVENT
DTSTART;VALUE=DATE:20221003
DTEND;VALUE=DATE:20221004
DTSTAMP:20260421T075430
CREATED:20221013T064236Z
LAST-MODIFIED:20221013T064236Z
UID:6601-1664755200-1664841599@www.peetri.edu.ee
SUMMARY:Muusikapäev
DESCRIPTION:
URL:https://www.peetri.edu.ee/pohikool/event/muusikapaev-3/
END:VEVENT
BEGIN:VEVENT
DTSTART;VALUE=DATE:20221003
DTEND;VALUE=DATE:20221007
DTSTAMP:20260421T075430
CREATED:20221013T064353Z
LAST-MODIFIED:20221013T064353Z
UID:6605-1664755200-1665100799@www.peetri.edu.ee
SUMMARY:Klasside pildistamised
DESCRIPTION:
URL:https://www.peetri.edu.ee/pohikool/event/klasside-pildistamised-2/
END:VEVENT
BEGIN:VEVENT
DTSTART;VALUE=DATE:20221005
DTEND;VALUE=DATE:20221006
DTSTAMP:20260421T075430
CREATED:20221013T064325Z
LAST-MODIFIED:20221013T064325Z
UID:6603-1664928000-1665014399@www.peetri.edu.ee
SUMMARY:Õpetajate päev
DESCRIPTION:
URL:https://www.peetri.edu.ee/pohikool/event/opetajate-paev-2/
END:VEVENT
BEGIN:VEVENT
DTSTART;VALUE=DATE:20221017
DTEND;VALUE=DATE:20221022
DTSTAMP:20260421T075430
CREATED:20221013T064519Z
LAST-MODIFIED:20221013T064519Z
UID:6607-1665964800-1666396799@www.peetri.edu.ee
SUMMARY:Loodusnädal
DESCRIPTION:
URL:https://www.peetri.edu.ee/pohikool/event/loodusnadal/
END:VEVENT
BEGIN:VEVENT
DTSTART;VALUE=DATE:20221019
DTEND;VALUE=DATE:20221020
DTSTAMP:20260421T075430
CREATED:20221013T064652Z
LAST-MODIFIED:20221013T064715Z
UID:6611-1666137600-1666223999@www.peetri.edu.ee
SUMMARY:Kella 7 orienteerumine
DESCRIPTION:
URL:https://www.peetri.edu.ee/pohikool/event/kella-7-orienteerumine-3/
END:VEVENT
BEGIN:VEVENT
DTSTART;VALUE=DATE:20221020
DTEND;VALUE=DATE:20221021
DTSTAMP:20260421T075430
CREATED:20221013T064618Z
LAST-MODIFIED:20221013T064618Z
UID:6609-1666224000-1666310399@www.peetri.edu.ee
SUMMARY:KoolikontsertTik-Tok LIVE ehk Brassical tuleb taas!
DESCRIPTION:
URL:https://www.peetri.edu.ee/pohikool/event/koolikontserttik-tok-live-ehk-brassical-tuleb-taas/
END:VEVENT
BEGIN:VEVENT
DTSTART;VALUE=DATE:20221024
DTEND;VALUE=DATE:20221031
DTSTAMP:20260421T075430
CREATED:20221013T064806Z
LAST-MODIFIED:20221013T064806Z
UID:6613-1666569600-1667174399@www.peetri.edu.ee
SUMMARY:VAHEAEG
DESCRIPTION:
URL:https://www.peetri.edu.ee/pohikool/event/vaheaeg-14/
END:VEVENT
BEGIN:VEVENT
DTSTART;VALUE=DATE:20221031
DTEND;VALUE=DATE:20221101
DTSTAMP:20260421T075430
CREATED:20221118T140339Z
LAST-MODIFIED:20221118T140339Z
UID:6704-1667174400-1667260799@www.peetri.edu.ee
SUMMARY:Stiilipäev Halloween
DESCRIPTION:
URL:https://www.peetri.edu.ee/pohikool/event/stiilipaev-halloween/
END:VEVENT
END:VCALENDAR