BEGIN:VCALENDAR
VERSION:2.0
PRODID:-//Peetri Põhikool - ECPv6.15.20//NONSGML v1.0//EN
CALSCALE:GREGORIAN
METHOD:PUBLISH
X-ORIGINAL-URL:https://www.peetri.edu.ee/pohikool
X-WR-CALDESC:Events for Peetri Põhikool
REFRESH-INTERVAL;VALUE=DURATION:PT1H
X-Robots-Tag:noindex
X-PUBLISHED-TTL:PT1H
BEGIN:VTIMEZONE
TZID:Europe/Tallinn
BEGIN:DAYLIGHT
TZOFFSETFROM:+0200
TZOFFSETTO:+0300
TZNAME:EEST
DTSTART:20210328T010000
END:DAYLIGHT
BEGIN:STANDARD
TZOFFSETFROM:+0300
TZOFFSETTO:+0200
TZNAME:EET
DTSTART:20211031T010000
END:STANDARD
BEGIN:DAYLIGHT
TZOFFSETFROM:+0200
TZOFFSETTO:+0300
TZNAME:EEST
DTSTART:20220327T010000
END:DAYLIGHT
BEGIN:STANDARD
TZOFFSETFROM:+0300
TZOFFSETTO:+0200
TZNAME:EET
DTSTART:20221030T010000
END:STANDARD
BEGIN:DAYLIGHT
TZOFFSETFROM:+0200
TZOFFSETTO:+0300
TZNAME:EEST
DTSTART:20230326T010000
END:DAYLIGHT
BEGIN:STANDARD
TZOFFSETFROM:+0300
TZOFFSETTO:+0200
TZNAME:EET
DTSTART:20231029T010000
END:STANDARD
END:VTIMEZONE
BEGIN:VEVENT
DTSTART;VALUE=DATE:20220901
DTEND;VALUE=DATE:20220902
DTSTAMP:20260421T094634
CREATED:20220914T094448Z
LAST-MODIFIED:20220914T094448Z
UID:6504-1661990400-1662076799@www.peetri.edu.ee
SUMMARY:Aktused
DESCRIPTION:
URL:https://www.peetri.edu.ee/pohikool/event/aktused-2/
END:VEVENT
BEGIN:VEVENT
DTSTART;VALUE=DATE:20220902
DTEND;VALUE=DATE:20220903
DTSTAMP:20260421T094634
CREATED:20220914T094533Z
LAST-MODIFIED:20220914T094533Z
UID:6506-1662076800-1662163199@www.peetri.edu.ee
SUMMARY:LME päev
DESCRIPTION:
URL:https://www.peetri.edu.ee/pohikool/event/lme-paev-5/
END:VEVENT
BEGIN:VEVENT
DTSTART;VALUE=DATE:20220922
DTEND;VALUE=DATE:20220923
DTSTAMP:20260421T094634
CREATED:20220914T094720Z
LAST-MODIFIED:20220914T094720Z
UID:6508-1663804800-1663891199@www.peetri.edu.ee
SUMMARY:5.-9.kl Maailmakoristuspäev
DESCRIPTION:
URL:https://www.peetri.edu.ee/pohikool/event/5-9-kl-maailmakoristuspaev/
END:VEVENT
BEGIN:VEVENT
DTSTART;VALUE=DATE:20220923
DTEND;VALUE=DATE:20220924
DTSTAMP:20260421T094634
CREATED:20220914T094942Z
LAST-MODIFIED:20220914T094942Z
UID:6514-1663891200-1663977599@www.peetri.edu.ee
SUMMARY:Heategevuslik Mesikäpateatejooks 5.-9.klassile
DESCRIPTION:
URL:https://www.peetri.edu.ee/pohikool/event/heategevuslik-mesikapateatejooks-5-9-klassile/
END:VEVENT
BEGIN:VEVENT
DTSTART;VALUE=DATE:20220923
DTEND;VALUE=DATE:20221001
DTSTAMP:20260421T094634
CREATED:20220914T094815Z
LAST-MODIFIED:20220914T094815Z
UID:6512-1663891200-1664582399@www.peetri.edu.ee
SUMMARY:Liikumisnädal
DESCRIPTION:
URL:https://www.peetri.edu.ee/pohikool/event/liikumisnadal/
END:VEVENT
BEGIN:VEVENT
DTSTART;VALUE=DATE:20220930
DTEND;VALUE=DATE:20221001
DTSTAMP:20260421T094634
CREATED:20220914T095022Z
LAST-MODIFIED:20220914T095022Z
UID:6516-1664496000-1664582399@www.peetri.edu.ee
SUMMARY:Sügislaat
DESCRIPTION:
URL:https://www.peetri.edu.ee/pohikool/event/sugislaat-4/
END:VEVENT
END:VCALENDAR