BEGIN:VCALENDAR
VERSION:2.0
PRODID:-//Peetri Põhikool - ECPv6.15.20//NONSGML v1.0//EN
CALSCALE:GREGORIAN
METHOD:PUBLISH
X-WR-CALNAME:Peetri Põhikool
X-ORIGINAL-URL:https://www.peetri.edu.ee/pohikool
X-WR-CALDESC:Events for Peetri Põhikool
REFRESH-INTERVAL;VALUE=DURATION:PT1H
X-Robots-Tag:noindex
X-PUBLISHED-TTL:PT1H
BEGIN:VTIMEZONE
TZID:Europe/Tallinn
BEGIN:DAYLIGHT
TZOFFSETFROM:+0200
TZOFFSETTO:+0300
TZNAME:EEST
DTSTART:20250330T010000
END:DAYLIGHT
BEGIN:STANDARD
TZOFFSETFROM:+0300
TZOFFSETTO:+0200
TZNAME:EET
DTSTART:20251026T010000
END:STANDARD
BEGIN:DAYLIGHT
TZOFFSETFROM:+0200
TZOFFSETTO:+0300
TZNAME:EEST
DTSTART:20260329T010000
END:DAYLIGHT
BEGIN:STANDARD
TZOFFSETFROM:+0300
TZOFFSETTO:+0200
TZNAME:EET
DTSTART:20261025T010000
END:STANDARD
BEGIN:DAYLIGHT
TZOFFSETFROM:+0200
TZOFFSETTO:+0300
TZNAME:EEST
DTSTART:20270328T010000
END:DAYLIGHT
BEGIN:STANDARD
TZOFFSETFROM:+0300
TZOFFSETTO:+0200
TZNAME:EET
DTSTART:20271031T010000
END:STANDARD
END:VTIMEZONE
BEGIN:VEVENT
DTSTART;VALUE=DATE:20260507
DTEND;VALUE=DATE:20260508
DTSTAMP:20260420T135021
CREATED:20260107T121608Z
LAST-MODIFIED:20260107T121608Z
UID:13757-1778112000-1778198399@www.peetri.edu.ee
SUMMARY:Loovtööde kaitsmine
DESCRIPTION:
URL:https://www.peetri.edu.ee/pohikool/event/loovtoode-kaitsmine-4/
END:VEVENT
BEGIN:VEVENT
DTSTART;VALUE=DATE:20260507
DTEND;VALUE=DATE:20260508
DTSTAMP:20260420T135021
CREATED:20260319T111933Z
LAST-MODIFIED:20260319T111933Z
UID:14209-1778112000-1778198399@www.peetri.edu.ee
SUMMARY:III Iseõppepäev 5.-6.kl
DESCRIPTION:
URL:https://www.peetri.edu.ee/pohikool/event/iii-iseoppepaev-5-6-kl/
END:VEVENT
BEGIN:VEVENT
DTSTART;VALUE=DATE:20260507
DTEND;VALUE=DATE:20260508
DTSTAMP:20260420T135021
CREATED:20260319T112019Z
LAST-MODIFIED:20260319T112019Z
UID:14211-1778112000-1778198399@www.peetri.edu.ee
SUMMARY:1.-4. klasside päev klassijuhatajaga
DESCRIPTION:
URL:https://www.peetri.edu.ee/pohikool/event/1-4-klasside-paev-klassijuhatajaga/
END:VEVENT
END:VCALENDAR