BEGIN:VCALENDAR
VERSION:2.0
PRODID:-//Peetri Põhikool - ECPv6.15.20//NONSGML v1.0//EN
CALSCALE:GREGORIAN
METHOD:PUBLISH
X-WR-CALNAME:Peetri Põhikool
X-ORIGINAL-URL:https://www.peetri.edu.ee/pohikool
X-WR-CALDESC:Events for Peetri Põhikool
REFRESH-INTERVAL;VALUE=DURATION:PT1H
X-Robots-Tag:noindex
X-PUBLISHED-TTL:PT1H
BEGIN:VTIMEZONE
TZID:Europe/Tallinn
BEGIN:DAYLIGHT
TZOFFSETFROM:+0200
TZOFFSETTO:+0300
TZNAME:EEST
DTSTART:20230326T010000
END:DAYLIGHT
BEGIN:STANDARD
TZOFFSETFROM:+0300
TZOFFSETTO:+0200
TZNAME:EET
DTSTART:20231029T010000
END:STANDARD
BEGIN:DAYLIGHT
TZOFFSETFROM:+0200
TZOFFSETTO:+0300
TZNAME:EEST
DTSTART:20240331T010000
END:DAYLIGHT
BEGIN:STANDARD
TZOFFSETFROM:+0300
TZOFFSETTO:+0200
TZNAME:EET
DTSTART:20241027T010000
END:STANDARD
BEGIN:DAYLIGHT
TZOFFSETFROM:+0200
TZOFFSETTO:+0300
TZNAME:EEST
DTSTART:20250330T010000
END:DAYLIGHT
BEGIN:STANDARD
TZOFFSETFROM:+0300
TZOFFSETTO:+0200
TZNAME:EET
DTSTART:20251026T010000
END:STANDARD
END:VTIMEZONE
BEGIN:VEVENT
DTSTART;TZID=Europe/Tallinn:20240502T180000
DTEND;TZID=Europe/Tallinn:20240502T193000
DTSTAMP:20260419T170144
CREATED:20240417T113953Z
LAST-MODIFIED:20240417T113953Z
UID:8448-1714672800-1714678200@www.peetri.edu.ee
SUMMARY:Lapsevanema koolitund 26: Lapse aju argipäev
DESCRIPTION:Lapsevanema koolitund 26: Lapse aju argipäev\nKoolitusel lahkame aju kohta käivaid müüte ja harutame lahti vaimse tervise ja arengu põhitõdesid\, mida lapse argipäevas rakendada saab.Koolitaja: Merilin Mandel (MSc) on kasvatuspsühholoog\, vanemahariduse ja vaimse tervise edendaja\nKaasa mõtlema on oodatud kõik praegused ja tulevased lapsevanemad.Koolitus on tasuta.\nOma osalusest palume teada anda kas e-postkasti administraator@peetri.edu.ee või telefonil 53683994.
URL:https://www.peetri.edu.ee/pohikool/event/lapsevanema-koolitund-26-lapse-aju-argipaev/
END:VEVENT
END:VCALENDAR