BEGIN:VCALENDAR
VERSION:2.0
PRODID:-//Peetri Põhikool - ECPv6.15.20//NONSGML v1.0//EN
CALSCALE:GREGORIAN
METHOD:PUBLISH
X-ORIGINAL-URL:https://www.peetri.edu.ee/pohikool
X-WR-CALDESC:Events for Peetri Põhikool
REFRESH-INTERVAL;VALUE=DURATION:PT1H
X-Robots-Tag:noindex
X-PUBLISHED-TTL:PT1H
BEGIN:VTIMEZONE
TZID:Europe/Tallinn
BEGIN:DAYLIGHT
TZOFFSETFROM:+0200
TZOFFSETTO:+0300
TZNAME:EEST
DTSTART:20220327T010000
END:DAYLIGHT
BEGIN:STANDARD
TZOFFSETFROM:+0300
TZOFFSETTO:+0200
TZNAME:EET
DTSTART:20221030T010000
END:STANDARD
BEGIN:DAYLIGHT
TZOFFSETFROM:+0200
TZOFFSETTO:+0300
TZNAME:EEST
DTSTART:20230326T010000
END:DAYLIGHT
BEGIN:STANDARD
TZOFFSETFROM:+0300
TZOFFSETTO:+0200
TZNAME:EET
DTSTART:20231029T010000
END:STANDARD
BEGIN:DAYLIGHT
TZOFFSETFROM:+0200
TZOFFSETTO:+0300
TZNAME:EEST
DTSTART:20240331T010000
END:DAYLIGHT
BEGIN:STANDARD
TZOFFSETFROM:+0300
TZOFFSETTO:+0200
TZNAME:EET
DTSTART:20241027T010000
END:STANDARD
END:VTIMEZONE
BEGIN:VEVENT
DTSTART;VALUE=DATE:20230925
DTEND;VALUE=DATE:20230930
DTSTAMP:20260420T214413
CREATED:20231019T110646Z
LAST-MODIFIED:20231019T110646Z
UID:8116-1695600000-1696031999@www.peetri.edu.ee
SUMMARY:Liikumisnädal
DESCRIPTION:
URL:https://www.peetri.edu.ee/pohikool/event/liikumisnadal-2/
END:VEVENT
BEGIN:VEVENT
DTSTART;VALUE=DATE:20230926
DTEND;VALUE=DATE:20230927
DTSTAMP:20260420T214413
CREATED:20231019T110743Z
LAST-MODIFIED:20231019T110743Z
UID:8118-1695686400-1695772799@www.peetri.edu.ee
SUMMARY:1.-5.kl Spordipäev
DESCRIPTION:
URL:https://www.peetri.edu.ee/pohikool/event/1-5-kl-spordipaev/
END:VEVENT
END:VCALENDAR